BEGIN:VCALENDAR
VERSION:2.0
PRODID:-//Sacerdotisa Craft Beer - ECPv6.15.15//NONSGML v1.0//EN
CALSCALE:GREGORIAN
METHOD:PUBLISH
X-ORIGINAL-URL:https://sacerdotisacraftbeer.com
X-WR-CALDESC:Eventos para Sacerdotisa Craft Beer
REFRESH-INTERVAL;VALUE=DURATION:PT1H
X-Robots-Tag:noindex
X-PUBLISHED-TTL:PT1H
BEGIN:VTIMEZONE
TZID:America/Bogota
BEGIN:STANDARD
TZOFFSETFROM:-0500
TZOFFSETTO:-0500
TZNAME:-05
DTSTART:20230101T000000
END:STANDARD
END:VTIMEZONE
BEGIN:VEVENT
DTSTART;TZID=America/Bogota:20251213T110000
DTEND;TZID=America/Bogota:20251213T170000
DTSTAMP:20260422T070749
CREATED:20251201T141407Z
LAST-MODIFIED:20251201T141407Z
UID:669-1765623600-1765645200@sacerdotisacraftbeer.com
SUMMARY:LANZAMIENTO MEDIEVAL - RIONEGRO
DESCRIPTION:Lanzamiento de la Urbanización MEDIEVAL. \nEste 13 de diciembre abrimos las puertas del Castillo de Oriente. \nPrepárate para vivir una experiencia llena de magia con: \n🎶 Show de música en vivo\n🥂 Canapés\n🎄 Taller de canapés navideños\n🏰 Recorrido especial
URL:https://sacerdotisacraftbeer.com/evento/lanzamiento-medieval-rionegro/
LOCATION:MEDIEVAL RIONEGRO\, https://maps.app.goo.gl/gGXeakxDhgbDuPCAA\, Colombia
ATTACH;FMTTYPE=image/jpeg:https://sacerdotisacraftbeer.com/wp-content/uploads/2025/12/Medieval-1.avif
END:VEVENT
BEGIN:VEVENT
DTSTART;TZID=America/Bogota:20251205T110000
DTEND;TZID=America/Bogota:20251208T230000
DTSTAMP:20260422T070749
CREATED:20251201T135207Z
LAST-MODIFIED:20251201T135207Z
UID:665-1764932400-1765234800@sacerdotisacraftbeer.com
SUMMARY:PARCHE DEL CHICHARRON
DESCRIPTION:Porque el Chicharrón también tiene su evento. Del 5 al 8 de diciembre en Centro Eventos Centauro – Envigado. \nEl mes más feliz del año llega con El Parche del Chicharrón. 13 restaurantes con el mejor chicharrón\, música en vivo\, sabores increíbles y un ambiente perfecto para disfrutar entre amigos y familia. \n 
URL:https://sacerdotisacraftbeer.com/evento/parche-del-chicharron/
LOCATION:CENTRO EVENTOS CENTAURO ENVIGADO\, CENTAURO\, ENVIGADO\, ANTIOQUIA\, Colombia
ATTACH;FMTTYPE=image/jpeg:https://sacerdotisacraftbeer.com/wp-content/uploads/2025/12/Parche-Chicharron.avif
END:VEVENT
BEGIN:VEVENT
DTSTART;VALUE=DATE:20251114
DTEND;VALUE=DATE:20251118
DTSTAMP:20260422T070749
CREATED:20250819T120356Z
LAST-MODIFIED:20251004T214700Z
UID:649-1763078400-1763423999@sacerdotisacraftbeer.com
SUMMARY:BURFEST 2025-II
DESCRIPTION:Las mejores hamburguesas de Medellín en un solo sitio y la mejor cerveza artesanal.
URL:https://sacerdotisacraftbeer.com/evento/burfest-2025-ii/
LOCATION:CENTRO EVENTOS CENTAURO ENVIGADO\, CENTAURO\, ENVIGADO\, ANTIOQUIA\, Colombia
ATTACH;FMTTYPE=image/jpeg:https://sacerdotisacraftbeer.com/wp-content/uploads/2025/08/BURFEST-II.avif
END:VEVENT
BEGIN:VEVENT
DTSTART;VALUE=DATE:20251030
DTEND;VALUE=DATE:20251103
DTSTAMP:20260422T070749
CREATED:20250908T154950Z
LAST-MODIFIED:20251004T214800Z
UID:653-1761782400-1762127999@sacerdotisacraftbeer.com
SUMMARY:PIZZZABOR 2025
DESCRIPTION:Las mejores Pizzas de Medellín con la mejor Cerveza Artesanal. No te lo pierdas
URL:https://sacerdotisacraftbeer.com/evento/pizzzabor-2025/
LOCATION:CENTRO EVENTOS CENTAURO ENVIGADO\, CENTAURO\, ENVIGADO\, ANTIOQUIA\, Colombia
ATTACH;FMTTYPE=image/jpeg:https://sacerdotisacraftbeer.com/wp-content/uploads/2025/09/Piizabor.avif
END:VEVENT
BEGIN:VEVENT
DTSTART;TZID=America/Bogota:20251025T120000
DTEND;TZID=America/Bogota:20251026T220000
DTSTAMP:20260422T070749
CREATED:20251004T215316Z
LAST-MODIFIED:20251004T215316Z
UID:659-1761393600-1761516000@sacerdotisacraftbeer.com
SUMMARY:CERVECEROS DE LA MONTAÑA
DESCRIPTION:VEN A PROBAR LAS MEJORES CERVEZAS ARTESANALES DEL ORIENTE ANTIOQUEÑO EN SANTA ELENA
URL:https://sacerdotisacraftbeer.com/evento/cerveceros-de-la-montana-2/
LOCATION:SANTA ELENA BOMBA ZEUSS\, SANTA ELENA BOMBA ZEUSS\, SANTA ELENA\, Antioquia\, Colombia
ATTACH;FMTTYPE=image/jpeg:https://sacerdotisacraftbeer.com/wp-content/uploads/2025/10/CERV-MONTANA-2025.avif
END:VEVENT
BEGIN:VEVENT
DTSTART;TZID=America/Bogota:20250314T100000
DTEND;TZID=America/Bogota:20250316T220000
DTSTAMP:20260422T070749
CREATED:20250126T031457Z
LAST-MODIFIED:20250126T031457Z
UID:643-1741946400-1742162400@sacerdotisacraftbeer.com
SUMMARY:BURFEST 2025-I
DESCRIPTION:
URL:https://sacerdotisacraftbeer.com/evento/burfest-2025-i/
LOCATION:CENTRO EVENTOS CENTAURO ENVIGADO\, CENTAURO\, ENVIGADO\, ANTIOQUIA\, Colombia
END:VEVENT
BEGIN:VEVENT
DTSTART;TZID=America/Bogota:20240807T120000
DTEND;TZID=America/Bogota:20240811T210000
DTSTAMP:20260422T070749
CREATED:20240720T001925Z
LAST-MODIFIED:20240720T002019Z
UID:635-1723032000-1723410000@sacerdotisacraftbeer.com
SUMMARY:MERCADO CREATIVO DE LAS FLORES
DESCRIPTION:
URL:https://sacerdotisacraftbeer.com/evento/mercado-creativo-de-las-flores/
LOCATION:Parques del  Rio\, Medellín\, Colombia
END:VEVENT
BEGIN:VEVENT
DTSTART;TZID=America/Bogota:20240713T110000
DTEND;TZID=America/Bogota:20240714T230000
DTSTAMP:20260422T070749
CREATED:20240621T202823Z
LAST-MODIFIED:20240621T202823Z
UID:611-1720868400-1720998000@sacerdotisacraftbeer.com
SUMMARY:Cerveceros de la Montaña
DESCRIPTION:
URL:https://sacerdotisacraftbeer.com/evento/cerveceros-de-la-montana/
ATTACH;FMTTYPE=image/png:https://sacerdotisacraftbeer.com/wp-content/uploads/2024/06/IMG_5899.png
ORGANIZER;CN="Bazar Artistas Creativos":MAILTO:pacorubiano@hotmail.com
END:VEVENT
BEGIN:VEVENT
DTSTART;VALUE=DATE:20240509
DTEND;VALUE=DATE:20240517
DTSTAMP:20260422T070749
CREATED:20240405T125241Z
LAST-MODIFIED:20240405T125241Z
UID:73-1715212800-1715903999@sacerdotisacraftbeer.com
SUMMARY:Feria de la Pola
DESCRIPTION:
URL:https://sacerdotisacraftbeer.com/evento/feria-de-la-pola/
ATTACH;FMTTYPE=image/jpeg:https://sacerdotisacraftbeer.com/wp-content/uploads/2024/04/cerveza.jpg
END:VEVENT
END:VCALENDAR